{"text_format":"3","workbook":"xlsx","n_sheets":1,"sheets":["Sheet1"],"not_rendered":{"external_links":3,"defined_names":2},"read":"whole","date_system":"1900"}

{"sheet":"Sheet1","index":0,"n_rows":156,"n_cols":6,"rows_kept":156,"merged":[[0,0,0,5]]}
["运城市2021年市直事业单位引进高素质青年专业人才拟引进人员名单"]
["序号","姓名","性别","学历","毕业学校","专业"]
[1,"杨卓璇","女","博士研究生","北京协和医学院","心内科"]
[2,"柴旭达","男","博士研究生","山西大学","哲学"]
[3,"贺格格","男","博士研究生","西安交通大学","材料科学与工程"]
[4,"张阳萍","女","博士研究生","中国科学院大学","环境工程"]
[5,"马敏娜","女","博士研究生","中山大学","生态学"]
[6,"李汶柳","女","硕士研究生",{"$f":"VLOOKUP(B8,[1]examineeInfo!$B$2:$G$429,6,FALSE)","v":"首都师范大学"},{"$f":"VLOOKUP(B8,[1]examineeInfo!$B$2:$H$429,7,FALSE)","v":"语言学及应用语言学"}]
[7,"薛斐斐","女","硕士研究生",{"$f":"VLOOKUP(B9,[1]examineeInfo!$B$2:$G$429,6,FALSE)","v":"西安外国语大学"},{"$f":"VLOOKUP(B9,[1]examineeInfo!$B$2:$H$429,7,FALSE)","v":"语言学及应用语言学"}]
[8,"李丹妮","女","硕士研究生",{"$f":"VLOOKUP(B10,[1]examineeInfo!$B$2:$G$429,6,FALSE)","v":"山东师范大学"},{"$f":"VLOOKUP(B10,[1]examineeInfo!$B$2:$H$429,7,FALSE)","v":"戏剧与影视学"}]
[9,"邹妍","女","本科",{"$f":"VLOOKUP(B11,[1]examineeInfo!$B$2:$G$429,6,FALSE)","v":"山东大学"},{"$f":"VLOOKUP(B11,[1]examineeInfo!$B$2:$H$429,7,FALSE)","v":"环境设计"}]
[10,"宁露","女","本科",{"$f":"VLOOKUP(B12,[1]examineeInfo!$B$2:$G$429,6,FALSE)","v":"北京建筑大学"},{"$f":"VLOOKUP(B12,[1]examineeInfo!$B$2:$H$429,7,FALSE)","v":"历史建筑保护工程"}]
[11,"霍治仲","男","本科",{"$f":"VLOOKUP(B13,[1]examineeInfo!$B$2:$G$429,6,FALSE)","v":"山西大同大学"},{"$f":"VLOOKUP(B13,[1]examineeInfo!$B$2:$H$429,7,FALSE)","v":"文物保护技术"}]
[12,"戴宗凯","男","硕士研究生",{"$f":"VLOOKUP(B14,[1]examineeInfo!$B$2:$G$429,6,FALSE)","v":"西北师范大学"},{"$f":"VLOOKUP(B14,[1]examineeInfo!$B$2:$H$429,7,FALSE)","v":"中国史"}]
[13,"刘鑫","女","硕士研究生",{"$f":"VLOOKUP(B15,[1]examineeInfo!$B$2:$G$429,6,FALSE)","v":"辽宁科技大学"},{"$f":"VLOOKUP(B15,[1]examineeInfo!$B$2:$H$429,7,FALSE)","v":"设计学"}]
[14,"史岩","男","硕士研究生",{"$f":"VLOOKUP(B16,[1]examineeInfo!$B$2:$G$429,6,FALSE)","v":"山西农业大学"},{"$f":"VLOOKUP(B16,[1]examineeInfo!$B$2:$H$429,7,FALSE)","v":"临床兽医学"}]
[15,"秦雪静","女","硕士研究生",{"$f":"VLOOKUP(B17,[1]examineeInfo!$B$2:$G$429,6,FALSE)","v":"郑州大学"},{"$f":"VLOOKUP(B17,[1]examineeInfo!$B$2:$H$429,7,FALSE)","v":"文物与博物馆"}]
[16,"高维婷","女","硕士研究生",{"$f":"VLOOKUP(B18,[1]examineeInfo!$B$2:$G$429,6,FALSE)","v":"山西大学"},{"$f":"VLOOKUP(B18,[1]examineeInfo!$B$2:$H$429,7,FALSE)","v":"文物与博物馆"}]
[17,"牛卓航","女","本科",{"$f":"VLOOKUP(B19,[1]examineeInfo!$B$2:$G$429,6,FALSE)","v":"东北农业大学"},{"$f":"VLOOKUP(B19,[1]examineeInfo!$B$2:$H$429,7,FALSE)","v":"环境设计"}]
[18,"贺思予","女","硕士研究生",{"$f":"VLOOKUP(B20,[1]examineeInfo!$B$2:$G$429,6,FALSE)","v":"郑州大学"},{"$f":"VLOOKUP(B20,[1]examineeInfo!$B$2:$H$429,7,FALSE)","v":"文物与博物馆"}]
[19,"马淞阳","女","本科",{"$f":"VLOOKUP(B21,[1]examineeInfo!$B$2:$G$429,6,FALSE)","v":"山西大同大学"},{"$f":"VLOOKUP(B21,[1]examineeInfo!$B$2:$H$429,7,FALSE)","v":"文物保护技术"}]
[20,"李志伟","男","本科",{"$f":"VLOOKUP(B22,[1]examineeInfo!$B$2:$G$429,6,FALSE)","v":"石家庄学院"},{"$f":"VLOOKUP(B22,[1]examineeInfo!$B$2:$H$429,7,FALSE)","v":"环境设计"}]
[21,"张江涛","男","本科",{"$f":"VLOOKUP(B23,[1]examineeInfo!$B$2:$G$429,6,FALSE)","v":"西昌学院"},{"$f":"VLOOKUP(B23,[1]examineeInfo!$B$2:$H$429,7,FALSE)","v":"中国画"}]
[22,"候敏","女","硕士研究生","兰州大学","生态学"]
[23,"赵党党","女","硕士研究生",{"$f":"VLOOKUP(B25,[1]examineeInfo!$B$2:$G$429,6,FALSE)","v":"山西大学"},{"$f":"VLOOKUP(B25,[1]examineeInfo!$B$2:$H$429,7,FALSE)","v":"法学"}]
[24,"刘政","男","硕士研究生",{"$f":"VLOOKUP(B26,[1]examineeInfo!$B$2:$G$429,6,FALSE)","v":"中国传媒大学"},{"$f":"VLOOKUP(B26,[1]examineeInfo!$B$2:$H$429,7,FALSE)","v":"计算机技术"}]
[25,"申政","男","硕士研究生",{"$f":"VLOOKUP(B27,[1]examineeInfo!$B$2:$G$429,6,FALSE)","v":"塔里木大学"},{"$f":"VLOOKUP(B27,[1]examineeInfo!$B$2:$H$429,7,FALSE)","v":"新闻与传播"}]
[26,"李丹阳","女","硕士研究生",{"$f":"VLOOKUP(B28,[1]examineeInfo!$B$2:$G$429,6,FALSE)","v":"陕西师范大学"},{"$f":"VLOOKUP(B28,[1]examineeInfo!$B$2:$H$429,7,FALSE)","v":"新闻与传播"}]
[27,"柴瑜竟","女","硕士研究生",{"$f":"VLOOKUP(B29,[1]examineeInfo!$B$2:$G$429,6,FALSE)","v":"陕西师范大学"},{"$f":"VLOOKUP(B29,[1]examineeInfo!$B$2:$H$429,7,FALSE)","v":"新闻学"}]
[28,"杨琳","女","硕士研究生",{"$f":"VLOOKUP(B30,[1]examineeInfo!$B$2:$G$429,6,FALSE)","v":"青海民族大学"},{"$f":"VLOOKUP(B30,[1]examineeInfo!$B$2:$H$429,7,FALSE)","v":"法学"}]
[29,"李岩","男","硕士研究生",{"$f":"VLOOKUP(B31,[1]examineeInfo!$B$2:$G$429,6,FALSE)","v":"北京联合大学"},{"$f":"VLOOKUP(B31,[1]examineeInfo!$B$2:$H$429,7,FALSE)","v":"新闻与传播"}]
[30,"梁鑫瑞","女","硕士研究生",{"$f":"VLOOKUP(B32,[1]examineeInfo!$B$2:$G$429,6,FALSE)","v":"山西师范大学"},{"$f":"VLOOKUP(B32,[1]examineeInfo!$B$2:$H$429,7,FALSE)","v":"教育学"}]
[31,"李浩","男","硕士研究生",{"$f":"VLOOKUP(B33,[1]examineeInfo!$B$2:$G$429,6,FALSE)","v":"四川音乐学院"},{"$f":"VLOOKUP(B33,[1]examineeInfo!$B$2:$H$429,7,FALSE)","v":"音乐·中国乐器（二胡）"}]
[32,"王首理","男","硕士研究生",{"$f":"VLOOKUP(B34,[1]examineeInfo!$B$2:$G$429,6,FALSE)","v":"天津中医药大学"},{"$f":"VLOOKUP(B34,[1]examineeInfo!$B$2:$H$429,7,FALSE)","v":"针灸推拿学"}]
[33,"耿璇","女","硕士研究生",{"$f":"VLOOKUP(B35,[1]examineeInfo!$B$2:$G$429,6,FALSE)","v":"中北大学"},{"$f":"VLOOKUP(B35,[1]examineeInfo!$B$2:$H$429,7,FALSE)","v":"信息与通信工程"}]
[34,"武丽娟","女","硕士研究生",{"$f":"VLOOKUP(B36,[1]examineeInfo!$B$2:$G$429,6,FALSE)","v":"重庆师范大学"},{"$f":"VLOOKUP(B36,[1]examineeInfo!$B$2:$H$429,7,FALSE)","v":"产业经济学"}]
[35,"王琪","女","硕士研究生",{"$f":"VLOOKUP(B37,[1]examineeInfo!$B$2:$G$429,6,FALSE)","v":"山西师范大学"},{"$f":"VLOOKUP(B37,[1]examineeInfo!$B$2:$H$429,7,FALSE)","v":"数学"}]
[36,"李钰卿","女","硕士研究生",{"$f":"VLOOKUP(B38,[1]examineeInfo!$B$2:$G$429,6,FALSE)","v":"广东工业大学"},{"$f":"VLOOKUP(B38,[1]examineeInfo!$B$2:$H$429,7,FALSE)","v":"软件工程"}]
[37,"陈鹏帆","男","硕士研究生",{"$f":"VLOOKUP(B39,[1]examineeInfo!$B$2:$G$429,6,FALSE)","v":"北京工业大学"},{"$f":"VLOOKUP(B39,[1]examineeInfo!$B$2:$H$429,7,FALSE)","v":"软件工程"}]
[38,"赵先","男","硕士研究生",{"$f":"VLOOKUP(B40,[1]examineeInfo!$B$2:$G$429,6,FALSE)","v":"马来西亚理科大学"},{"$f":"VLOOKUP(B40,[1]examineeInfo!$B$2:$H$429,7,FALSE)","v":"数据科学与分析"}]
[39,"郝震东","男","硕士研究生",{"$f":"VLOOKUP(B41,[1]examineeInfo!$B$2:$G$429,6,FALSE)","v":"福州大学"},{"$f":"VLOOKUP(B41,[1]examineeInfo!$B$2:$H$429,7,FALSE)","v":"计算机技术"}]
[40,"任玮","男","硕士研究生",{"$f":"VLOOKUP(B42,[1]examineeInfo!$B$2:$G$429,6,FALSE)","v":"中北大学"},{"$f":"VLOOKUP(B42,[1]examineeInfo!$B$2:$H$429,7,FALSE)","v":"计算机技术"}]
[41,"续圆圆",{"$f":"VLOOKUP(B43,[3]examineeInfo!$C$2:$D$429,2,FALSE)","v":"女"},"硕士研究生",{"$f":"VLOOKUP(B43,[2]examineeInfo!$C$2:$M$429,11,FALSE)","v":"兰州理工大学"},{"$f":"VLOOKUP(B43,[2]examineeInfo!$C$2:$O$429,13,FALSE)","v":"法律（非法学）"}]
[42,"乔敏瑞","女","硕士研究生",{"$f":"VLOOKUP(B44,[1]examineeInfo!$B$2:$G$429,6,FALSE)","v":"海南大学"},{"$f":"VLOOKUP(B44,[1]examineeInfo!$B$2:$H$429,7,FALSE)","v":"新闻与传播"}]
[43,"杨卓娅","女","硕士研究生",{"$f":"VLOOKUP(B45,[1]examineeInfo!$B$2:$G$429,6,FALSE)","v":"天津师范大学"},{"$f":"VLOOKUP(B45,[1]examineeInfo!$B$2:$H$429,7,FALSE)","v":"新闻与传播"}]
[44,"崔波蕾","女","硕士研究生",{"$f":"VLOOKUP(B46,[1]examineeInfo!$B$2:$G$429,6,FALSE)","v":"河南大学"},{"$f":"VLOOKUP(B46,[1]examineeInfo!$B$2:$H$429,7,FALSE)","v":"环境工程"}]
[45,"王扬","女","硕士研究生",{"$f":"VLOOKUP(B47,[1]examineeInfo!$B$2:$G$429,6,FALSE)","v":"山西财经大学"},{"$f":"VLOOKUP(B47,[1]examineeInfo!$B$2:$H$429,7,FALSE)","v":"审计"}]
[46,"周晓丽","女","硕士研究生",{"$f":"VLOOKUP(B48,[1]examineeInfo!$B$2:$G$429,6,FALSE)","v":"山西财经大学"},{"$f":"VLOOKUP(B48,[1]examineeInfo!$B$2:$H$429,7,FALSE)","v":"金融学"}]
[47,"董雪蕊","女","硕士研究生",{"$f":"VLOOKUP(B49,[1]examineeInfo!$B$2:$G$429,6,FALSE)","v":"山西大学"},{"$f":"VLOOKUP(B49,[1]examineeInfo!$B$2:$H$429,7,FALSE)","v":"生态学"}]
[48,"张小媛","女","硕士研究生",{"$f":"VLOOKUP(B50,[1]examineeInfo!$B$2:$G$429,6,FALSE)","v":"长安大学"},{"$f":"VLOOKUP(B50,[1]examineeInfo!$B$2:$H$429,7,FALSE)","v":"产业经济学"}]
[49,"李菲","女","硕士研究生",{"$f":"VLOOKUP(B51,[1]examineeInfo!$B$2:$G$429,6,FALSE)","v":"云南财经大学"},{"$f":"VLOOKUP(B51,[1]examineeInfo!$B$2:$H$429,7,FALSE)","v":"国际贸易学"}]
[50,"王刚","男","硕士研究生",{"$f":"VLOOKUP(B52,[1]examineeInfo!$B$2:$G$429,6,FALSE)","v":"南京林业大学"},{"$f":"VLOOKUP(B52,[1]examineeInfo!$B$2:$H$429,7,FALSE)","v":"生态学"}]
[51,"魏美娟","女","硕士研究生","山西大学","环境工程"]
[52,"卫芳蓉","女","硕士研究生",{"$f":"VLOOKUP(B54,[1]examineeInfo!$B$2:$G$429,6,FALSE)","v":"河北地质大学"},{"$f":"VLOOKUP(B54,[1]examineeInfo!$B$2:$H$429,7,FALSE)","v":"会计学"}]
[53,"祁卓","女","硕士研究生",{"$f":"VLOOKUP(B55,[1]examineeInfo!$B$2:$G$429,6,FALSE)","v":"山西医科大学"},{"$f":"VLOOKUP(B55,[1]examineeInfo!$B$2:$H$429,7,FALSE)","v":"公共卫生"}]
[54,"马瑞","女","硕士研究生",{"$f":"VLOOKUP(B56,[1]examineeInfo!$B$2:$G$429,6,FALSE)","v":"大理大学"},{"$f":"VLOOKUP(B56,[1]examineeInfo!$B$2:$H$429,7,FALSE)","v":"流行病与卫生统计学"}]
[55,"崔钰","女","硕士研究生",{"$f":"VLOOKUP(B57,[1]examineeInfo!$B$2:$G$429,6,FALSE)","v":"北京中医药大学"},{"$f":"VLOOKUP(B57,[1]examineeInfo!$B$2:$H$429,7,FALSE)","v":"社会医学与卫生事业管理"}]
[56,"李小雪","女","硕士研究生",{"$f":"VLOOKUP(B58,[1]examineeInfo!$B$2:$G$429,6,FALSE)","v":"山西医科大学"},{"$f":"VLOOKUP(B58,[1]examineeInfo!$B$2:$H$429,7,FALSE)","v":"流行病与卫生统计学"}]
[57,"廉东娜","女","硕士研究生",{"$f":"VLOOKUP(B59,[1]examineeInfo!$B$2:$G$429,6,FALSE)","v":"山西财经大学"},{"$f":"VLOOKUP(B59,[1]examineeInfo!$B$2:$H$429,7,FALSE)","v":"会计学"}]
[58,"赵婷","女","硕士研究生",{"$f":"VLOOKUP(B60,[1]examineeInfo!$B$2:$G$429,6,FALSE)","v":"郑州大学"},{"$f":"VLOOKUP(B60,[1]examineeInfo!$B$2:$H$429,7,FALSE)","v":"公共卫生"}]
[59,"左春雨","男","硕士研究生",{"$f":"VLOOKUP(B61,[1]examineeInfo!$B$2:$G$429,6,FALSE)","v":"山西医科大学"},{"$f":"VLOOKUP(B61,[1]examineeInfo!$B$2:$H$429,7,FALSE)","v":"公共卫生硕士"}]
[60,"郝家尧","女","硕士研究生","河北大学","社会医学与卫生事业管理"]
[61,"吕黔梅","女","硕士研究生",{"$f":"VLOOKUP(B63,[1]examineeInfo!$B$2:$G$429,6,FALSE)","v":"贵州财经大学"},{"$f":"VLOOKUP(B63,[1]examineeInfo!$B$2:$H$429,7,FALSE)","v":"会计"}]
[62,"王泽","男","硕士研究生",{"$f":"VLOOKUP(B64,[1]examineeInfo!$B$2:$G$429,6,FALSE)","v":"太原师范学院"},{"$f":"VLOOKUP(B64,[1]examineeInfo!$B$2:$H$429,7,FALSE)","v":"计算机技术"}]
[63,"秦红艳","女","硕士研究生",{"$f":"VLOOKUP(B65,[1]examineeInfo!$B$2:$G$429,6,FALSE)","v":"山西大学"},{"$f":"VLOOKUP(B65,[1]examineeInfo!$B$2:$H$429,7,FALSE)","v":"汉语言文字学"}]
[64,"杨若珂","女","硕士研究生",{"$f":"VLOOKUP(B66,[1]examineeInfo!$B$2:$G$429,6,FALSE)","v":"中央民族大学"},{"$f":"VLOOKUP(B66,[1]examineeInfo!$B$2:$H$429,7,FALSE)","v":"诉讼法学"}]
[65,"何亚犇","男","硕士研究生",{"$f":"VLOOKUP(B67,[1]examineeInfo!$B$2:$G$429,6,FALSE)","v":"黑龙江大学"},{"$f":"VLOOKUP(B67,[1]examineeInfo!$B$2:$H$429,7,FALSE)","v":"法学"}]
[66,"卫宁","男","硕士研究生",{"$f":"VLOOKUP(B68,[1]examineeInfo!$B$2:$G$429,6,FALSE)","v":"陕西师范大学"},{"$f":"VLOOKUP(B68,[1]examineeInfo!$B$2:$H$429,7,FALSE)","v":"民商法学"}]
[67,"高欢","女","硕士研究生",{"$f":"VLOOKUP(B69,[1]examineeInfo!$B$2:$G$429,6,FALSE)","v":"西安建筑科技大学"},{"$f":"VLOOKUP(B69,[1]examineeInfo!$B$2:$H$429,7,FALSE)","v":"建筑与土木工程"}]
[68,"牛璋","男","硕士研究生",{"$f":"VLOOKUP(B70,[1]examineeInfo!$B$2:$G$429,6,FALSE)","v":"西南交通大学"},{"$f":"VLOOKUP(B70,[1]examineeInfo!$B$2:$H$429,7,FALSE)","v":"建筑与土木工程"}]
[69,"戴天钊","男","硕士研究生",{"$f":"VLOOKUP(B71,[1]examineeInfo!$B$2:$G$429,6,FALSE)","v":"太原理工大学"},{"$f":"VLOOKUP(B71,[1]examineeInfo!$B$2:$H$429,7,FALSE)","v":"建筑与土木工程"}]
[70,"王怡颖","女","硕士研究生",{"$f":"VLOOKUP(B72,[1]examineeInfo!$B$2:$G$429,6,FALSE)","v":"太原科技大学"},{"$f":"VLOOKUP(B72,[1]examineeInfo!$B$2:$H$429,7,FALSE)","v":"工业工程"}]
[71,"闫晨","女","硕士研究生",{"$f":"VLOOKUP(B73,[1]examineeInfo!$B$2:$G$429,6,FALSE)","v":"辽宁大学"},{"$f":"VLOOKUP(B73,[1]examineeInfo!$B$2:$H$429,7,FALSE)","v":"中国史（一级学科为历史学）"}]
[72,"刘佩川","女","硕士研究生",{"$f":"VLOOKUP(B74,[1]examineeInfo!$B$2:$G$429,6,FALSE)","v":"山西师范大学"},{"$f":"VLOOKUP(B74,[1]examineeInfo!$B$2:$H$429,7,FALSE)","v":"民俗学"}]
[73,"赵磊","男","硕士研究生","山西师范大学","中国古代文学"]
[74,"朱红云","女","硕士研究生",{"$f":"VLOOKUP(B76,[1]examineeInfo!$B$2:$G$429,6,FALSE)","v":"昆明医科大学"},{"$f":"VLOOKUP(B76,[1]examineeInfo!$B$2:$H$429,7,FALSE)","v":"内科学"}]
[75,"张小娟","女","硕士研究生",{"$f":"VLOOKUP(B77,[1]examineeInfo!$B$2:$G$429,6,FALSE)","v":"山西医科大学"},{"$f":"VLOOKUP(B77,[1]examineeInfo!$B$2:$H$429,7,FALSE)","v":"妇产科学"}]
[76,"崔嵩","男","硕士研究生",{"$f":"VLOOKUP(B78,[1]examineeInfo!$B$2:$G$429,6,FALSE)","v":"石河子大学"},{"$f":"VLOOKUP(B78,[1]examineeInfo!$B$2:$H$429,7,FALSE)","v":"外科学"}]
[77,"张佳雯","女","硕士研究生",{"$f":"VLOOKUP(B79,[1]examineeInfo!$B$2:$G$429,6,FALSE)","v":"山东中医药大学"},{"$f":"VLOOKUP(B79,[1]examineeInfo!$B$2:$H$429,7,FALSE)","v":"中医医史文献"}]
[78,"张少华","女","硕士研究生",{"$f":"VLOOKUP(B80,[1]examineeInfo!$B$2:$G$429,6,FALSE)","v":"太原理工大学"},{"$f":"VLOOKUP(B80,[1]examineeInfo!$B$2:$H$429,7,FALSE)","v":"水利工程"}]
[79,"闫春蕾","女","硕士研究生",{"$f":"VLOOKUP(B81,[1]examineeInfo!$B$2:$G$429,6,FALSE)","v":"山西大学"},{"$f":"VLOOKUP(B81,[1]examineeInfo!$B$2:$H$429,7,FALSE)","v":"英语笔译"}]
[80,"王萍","女","硕士研究生",{"$f":"VLOOKUP(B82,[1]examineeInfo!$B$2:$G$429,6,FALSE)","v":"天津工业大学"},{"$f":"VLOOKUP(B82,[1]examineeInfo!$B$2:$H$429,7,FALSE)","v":"计算机技术"}]
[81,"梁浩","男","硕士研究生",{"$f":"VLOOKUP(B83,[1]examineeInfo!$B$2:$G$429,6,FALSE)","v":"太原科技大学"},{"$f":"VLOOKUP(B83,[1]examineeInfo!$B$2:$H$429,7,FALSE)","v":"计算机技术"}]
[82,"张丹丹","女","硕士研究生",{"$f":"VLOOKUP(B84,[1]examineeInfo!$B$2:$G$429,6,FALSE)","v":"北方民族大学"},{"$f":"VLOOKUP(B84,[1]examineeInfo!$B$2:$H$429,7,FALSE)","v":"计算机技术"}]
[83,"张亚芬","女","硕士研究生",{"$f":"VLOOKUP(B85,[1]examineeInfo!$B$2:$G$429,6,FALSE)","v":"山西财经大学"},{"$f":"VLOOKUP(B85,[1]examineeInfo!$B$2:$H$429,7,FALSE)","v":"企业管理"}]
[84,"苏思宁",{"$f":"VLOOKUP(B86,[3]examineeInfo!$C$2:$D$429,2,FALSE)","v":"女"},"硕士研究生",{"$f":"VLOOKUP(B86,[2]examineeInfo!$C$2:$M$429,11,FALSE)","v":"山西财经大学"},{"$f":"VLOOKUP(B86,[2]examineeInfo!$C$2:$O$429,13,FALSE)","v":"应用统计"}]
[85,"高祎",{"$f":"VLOOKUP(B87,[3]examineeInfo!$C$2:$D$429,2,FALSE)","v":"女"},"硕士研究生",{"$f":"VLOOKUP(B87,[2]examineeInfo!$C$2:$M$429,11,FALSE)","v":"北京理工大学"},{"$f":"VLOOKUP(B87,[2]examineeInfo!$C$2:$O$429,13,FALSE)","v":"公共管理"}]
[86,"刘慧萍","女","硕士研究生",{"$f":"VLOOKUP(B88,[1]examineeInfo!$B$2:$G$429,6,FALSE)","v":"西南大学"},{"$f":"VLOOKUP(B88,[1]examineeInfo!$B$2:$H$429,7,FALSE)","v":"语言学及应用语言学"}]
[87,"樊琛琛","女","硕士研究生",{"$f":"VLOOKUP(B89,[1]examineeInfo!$B$2:$G$429,6,FALSE)","v":"辽宁师范大学"},{"$f":"VLOOKUP(B89,[1]examineeInfo!$B$2:$H$429,7,FALSE)","v":"语言学及应用语言学"}]
[88,"李琳琳","女","硕士研究生",{"$f":"VLOOKUP(B90,[1]examineeInfo!$B$2:$G$429,6,FALSE)","v":"河南大学"},{"$f":"VLOOKUP(B90,[1]examineeInfo!$B$2:$H$429,7,FALSE)","v":"广播电视"}]
[89,"乔琦","女","硕士研究生",{"$f":"VLOOKUP(B91,[1]examineeInfo!$B$2:$G$429,6,FALSE)","v":"西北政法大学"},{"$f":"VLOOKUP(B91,[1]examineeInfo!$B$2:$H$429,7,FALSE)","v":"法律（非法学）"}]
[90,"关轶凡","女","硕士研究生",{"$f":"VLOOKUP(B92,[1]examineeInfo!$B$2:$G$429,6,FALSE)","v":"山西财经大学"},{"$f":"VLOOKUP(B92,[1]examineeInfo!$B$2:$H$429,7,FALSE)","v":"审计"}]
[91,"柴梦滢","女","硕士研究生",{"$f":"VLOOKUP(B93,[1]examineeInfo!$B$2:$G$429,6,FALSE)","v":"太原理工大学"},{"$f":"VLOOKUP(B93,[1]examineeInfo!$B$2:$H$429,7,FALSE)","v":"水利工程"}]
[92,"毕鹏丽","女","硕士研究生",{"$f":"VLOOKUP(B94,[1]examineeInfo!$B$2:$G$429,6,FALSE)","v":"云南大学"},{"$f":"VLOOKUP(B94,[1]examineeInfo!$B$2:$H$429,7,FALSE)","v":"计算机技术"}]
[93,"梁颖","女","硕士研究生",{"$f":"VLOOKUP(B95,[1]examineeInfo!$B$2:$G$429,6,FALSE)","v":"云南大学"},{"$f":"VLOOKUP(B95,[1]examineeInfo!$B$2:$H$429,7,FALSE)","v":"计算机应用技术"}]
[94,"潘菁","女","硕士研究生",{"$f":"VLOOKUP(B96,[1]examineeInfo!$B$2:$G$429,6,FALSE)","v":"陕西师范大学"},{"$f":"VLOOKUP(B96,[1]examineeInfo!$B$2:$H$429,7,FALSE)","v":"伦理学"}]
[95,"董小楠","女","硕士研究生",{"$f":"VLOOKUP(B97,[1]examineeInfo!$B$2:$G$429,6,FALSE)","v":"河北大学"},{"$f":"VLOOKUP(B97,[1]examineeInfo!$B$2:$H$429,7,FALSE)","v":"汉语言文字学"}]
[96,"景小川","女","硕士研究生",{"$f":"VLOOKUP(B98,[1]examineeInfo!$B$2:$G$429,6,FALSE)","v":"山西师范大学"},{"$f":"VLOOKUP(B98,[1]examineeInfo!$B$2:$H$429,7,FALSE)","v":"思想政治教育"}]
[97,"许越","女","硕士研究生",{"$f":"VLOOKUP(B99,[1]examineeInfo!$B$2:$G$429,6,FALSE)","v":"湘潭大学"},{"$f":"VLOOKUP(B99,[1]examineeInfo!$B$2:$H$429,7,FALSE)","v":"应用经济学"}]
[98,"原晓丽","女","硕士研究生",{"$f":"VLOOKUP(B100,[1]examineeInfo!$B$2:$G$429,6,FALSE)","v":"河北师范大学"},{"$f":"VLOOKUP(B100,[1]examineeInfo!$B$2:$H$429,7,FALSE)","v":"考古学"}]
[99,"高仙","女","硕士研究生",{"$f":"VLOOKUP(B101,[1]examineeInfo!$B$2:$G$429,6,FALSE)","v":"中南民族大学"},{"$f":"VLOOKUP(B101,[1]examineeInfo!$B$2:$H$429,7,FALSE)","v":"中国古代文学"}]
[100,"杨晨","女","硕士研究生",{"$f":"VLOOKUP(B102,[1]examineeInfo!$B$2:$G$429,6,FALSE)","v":"河北大学"},{"$f":"VLOOKUP(B102,[1]examineeInfo!$B$2:$H$429,7,FALSE)","v":"中国史"}]
[101,"李彤","女","本科",{"$f":"VLOOKUP(B103,[1]examineeInfo!$B$2:$G$429,6,FALSE)","v":"山西大同大学"},{"$f":"VLOOKUP(B103,[1]examineeInfo!$B$2:$H$429,7,FALSE)","v":"文物保护技术"}]
[102,"杜嘉伟","男","本科",{"$f":"VLOOKUP(B104,[1]examineeInfo!$B$2:$G$429,6,FALSE)","v":"山西大学"},{"$f":"VLOOKUP(B104,[1]examineeInfo!$B$2:$H$429,7,FALSE)","v":"考古学"}]
[103,"张力中","男","硕士研究生",{"$f":"VLOOKUP(B105,[1]examineeInfo!$B$2:$G$429,6,FALSE)","v":"西安建筑科技大学"},{"$f":"VLOOKUP(B105,[1]examineeInfo!$B$2:$H$429,7,FALSE)","v":"建筑学"}]
[104,"李明轩","男","硕士研究生",{"$f":"VLOOKUP(B106,[1]examineeInfo!$B$2:$G$429,6,FALSE)","v":"湖北大学"},{"$f":"VLOOKUP(B106,[1]examineeInfo!$B$2:$H$429,7,FALSE)","v":"历史学"}]
[105,"张兰","女","硕士研究生",{"$f":"VLOOKUP(B107,[1]examineeInfo!$B$2:$G$429,6,FALSE)","v":"中国海洋大学"},{"$f":"VLOOKUP(B107,[1]examineeInfo!$B$2:$H$429,7,FALSE)","v":"水产养殖"}]
[106,"樊博琳","女","硕士研究生","广东海洋大学","水产"]
[107,"王雪前","女","硕士研究生",{"$f":"VLOOKUP(B109,[1]examineeInfo!$B$2:$G$429,6,FALSE)","v":"山西财经大学"},{"$f":"VLOOKUP(B109,[1]examineeInfo!$B$2:$H$429,7,FALSE)","v":"金融学"}]
[108,"王雅楠","女","硕士研究生",{"$f":"VLOOKUP(B110,[1]examineeInfo!$B$2:$G$429,6,FALSE)","v":"英国莱斯特大学"},{"$f":"VLOOKUP(B110,[1]examineeInfo!$B$2:$H$429,7,FALSE)","v":"会计与金融"}]
[109,"岳怡彤","女","硕士研究生",{"$f":"VLOOKUP(B111,[1]examineeInfo!$B$2:$G$429,6,FALSE)","v":"河北经贸大学"},{"$f":"VLOOKUP(B111,[1]examineeInfo!$B$2:$H$429,7,FALSE)","v":"生物工程"}]
[110,"杨子京","男","硕士研究生",{"$f":"VLOOKUP(B112,[1]examineeInfo!$B$2:$G$429,6,FALSE)","v":"太原理工大学"},{"$f":"VLOOKUP(B112,[1]examineeInfo!$B$2:$H$429,7,FALSE)","v":"土木工程"}]
[111,"王波","男","硕士研究生","西安工业大学","建筑与土木工程"]
[112,"陈亚兰","女","硕士研究生",{"$f":"VLOOKUP(B114,[1]examineeInfo!$B$2:$G$429,6,FALSE)","v":"内蒙古大学"},{"$f":"VLOOKUP(B114,[1]examineeInfo!$B$2:$H$429,7,FALSE)","v":"生物工程"}]
[113,"薛水娜","女","硕士研究生",{"$f":"VLOOKUP(B115,[1]examineeInfo!$B$2:$G$429,6,FALSE)","v":"江苏科技大学"},{"$f":"VLOOKUP(B115,[1]examineeInfo!$B$2:$H$429,7,FALSE)","v":"工商管理"}]
[114,"宋福庆","男","硕士研究生",{"$f":"VLOOKUP(B116,[1]examineeInfo!$B$2:$G$429,6,FALSE)","v":"大阪产业大学"},{"$f":"VLOOKUP(B116,[1]examineeInfo!$B$2:$H$429,7,FALSE)","v":"机械工程"}]
[115,"赵社民","男","硕士研究生",{"$f":"VLOOKUP(B117,[1]examineeInfo!$B$2:$G$429,6,FALSE)","v":"太原理工大学"},{"$f":"VLOOKUP(B117,[1]examineeInfo!$B$2:$H$429,7,FALSE)","v":"材料工程"}]
[116,"申潞潞","男","硕士研究生",{"$f":"VLOOKUP(B118,[1]examineeInfo!$B$2:$G$429,6,FALSE)","v":"太原理工大学"},{"$f":"VLOOKUP(B118,[1]examineeInfo!$B$2:$H$429,7,FALSE)","v":"材料科学与工程"}]
[117,"徐范范","女","硕士研究生","江西理工大学","冶金物理化学"]
[118,"寻婷","女","硕士研究生",{"$f":"VLOOKUP(B120,[1]examineeInfo!$B$2:$G$429,6,FALSE)","v":"太原科技大学"},{"$f":"VLOOKUP(B120,[1]examineeInfo!$B$2:$H$429,7,FALSE)","v":"法律（法学）"}]
[119,"范增","男","硕士研究生",{"$f":"VLOOKUP(B121,[1]examineeInfo!$B$2:$G$429,6,FALSE)","v":"长安大学"},{"$f":"VLOOKUP(B121,[1]examineeInfo!$B$2:$H$429,7,FALSE)","v":"城乡规划学"}]
[120,"李璞壮","男","硕士研究生",{"$f":"VLOOKUP(B122,[1]examineeInfo!$B$2:$G$429,6,FALSE)","v":"华北理工大学"},{"$f":"VLOOKUP(B122,[1]examineeInfo!$B$2:$H$429,7,FALSE)","v":"地质工程"}]
[121,"董福","男","硕士研究生",{"$f":"VLOOKUP(B123,[1]examineeInfo!$B$2:$G$429,6,FALSE)","v":"长安大学"},{"$f":"VLOOKUP(B123,[1]examineeInfo!$B$2:$H$429,7,FALSE)","v":"地质资源与地质工程"}]
[122,"陈璐瑛","女","硕士研究生",{"$f":"VLOOKUP(B124,[1]examineeInfo!$B$2:$G$429,6,FALSE)","v":"辽宁大学"},{"$f":"VLOOKUP(B124,[1]examineeInfo!$B$2:$H$429,7,FALSE)","v":"传播学"}]
[123,"刘乐乐","女","硕士研究生",{"$f":"VLOOKUP(B125,[1]examineeInfo!$B$2:$G$429,6,FALSE)","v":"太原理工大学"},{"$f":"VLOOKUP(B125,[1]examineeInfo!$B$2:$H$429,7,FALSE)","v":"会计学"}]
[124,"尚静","女","硕士研究生",{"$f":"VLOOKUP(B126,[1]examineeInfo!$B$2:$G$429,6,FALSE)","v":"太原科技大学"},{"$f":"VLOOKUP(B126,[1]examineeInfo!$B$2:$H$429,7,FALSE)","v":"电路与系统"}]
[125,"杨文茹","女","硕士研究生",{"$f":"VLOOKUP(B127,[1]examineeInfo!$B$2:$G$429,6,FALSE)","v":"北京林业大学"},{"$f":"VLOOKUP(B127,[1]examineeInfo!$B$2:$H$429,7,FALSE)","v":"应用统计"}]
[126,"孔伶旭","男","硕士研究生",{"$f":"VLOOKUP(B128,[1]examineeInfo!$B$2:$G$429,6,FALSE)","v":"云南民族大学"},{"$f":"VLOOKUP(B128,[1]examineeInfo!$B$2:$H$429,7,FALSE)","v":"通信与信息系统"}]
[127,"郭一鸣","女","硕士研究生","兰州财经大学","西方经济学"]
[128,"王颖","女","硕士研究生",{"$f":"VLOOKUP(B130,[1]examineeInfo!$B$2:$G$429,6,FALSE)","v":"中国农业大学"},{"$f":"VLOOKUP(B130,[1]examineeInfo!$B$2:$H$429,7,FALSE)","v":"植物保护"}]
[129,"曹敏","男","硕士研究生",{"$f":"VLOOKUP(B131,[1]examineeInfo!$B$2:$G$429,6,FALSE)","v":"山西农业大学"},{"$f":"VLOOKUP(B131,[1]examineeInfo!$B$2:$H$429,7,FALSE)","v":"植物保护"}]
[130,"李雁君","女","硕士研究生",{"$f":"VLOOKUP(B132,[1]examineeInfo!$B$2:$G$429,6,FALSE)","v":"太原师范学院"},{"$f":"VLOOKUP(B132,[1]examineeInfo!$B$2:$H$429,7,FALSE)","v":"汉语言文字学"}]
[131,"陈碧瑶","女","硕士研究生",{"$f":"VLOOKUP(B133,[1]examineeInfo!$B$2:$G$429,6,FALSE)","v":"长安大学"},{"$f":"VLOOKUP(B133,[1]examineeInfo!$B$2:$H$429,7,FALSE)","v":"软件工程"}]
[132,"白茹","女","硕士研究生",{"$f":"VLOOKUP(B134,[1]examineeInfo!$B$2:$G$429,6,FALSE)","v":"山西医科大学"},{"$f":"VLOOKUP(B134,[1]examineeInfo!$B$2:$H$429,7,FALSE)","v":"护理学"}]
[133,"李艳玲","女","硕士研究生",{"$f":"VLOOKUP(B135,[1]examineeInfo!$B$2:$G$429,6,FALSE)","v":"成都中医药大学"},{"$f":"VLOOKUP(B135,[1]examineeInfo!$B$2:$H$429,7,FALSE)","v":"药物分析学"}]
[134,"李林","女","硕士研究生",{"$f":"VLOOKUP(B136,[1]examineeInfo!$B$2:$G$429,6,FALSE)","v":"南京农业大学"},{"$f":"VLOOKUP(B136,[1]examineeInfo!$B$2:$H$429,7,FALSE)","v":"蔬菜学"}]
[135,"王葳","女","硕士研究生",{"$f":"VLOOKUP(B137,[1]examineeInfo!$B$2:$G$429,6,FALSE)","v":"天津农学院"},{"$f":"VLOOKUP(B137,[1]examineeInfo!$B$2:$H$429,7,FALSE)","v":"果树学"}]
[136,"史蛟华","男","硕士研究生",{"$f":"VLOOKUP(B138,[1]examineeInfo!$B$2:$G$429,6,FALSE)","v":"石河子大学"},{"$f":"VLOOKUP(B138,[1]examineeInfo!$B$2:$H$429,7,FALSE)","v":"资源利用与植物保护"}]
[137,"乔多","女","硕士研究生",{"$f":"VLOOKUP(B139,[1]examineeInfo!$B$2:$G$429,6,FALSE)","v":"山东建筑大学"},{"$f":"VLOOKUP(B139,[1]examineeInfo!$B$2:$H$429,7,FALSE)","v":"建筑与土木工程"}]
[138,"张云","女","硕士研究生",{"$f":"VLOOKUP(B140,[1]examineeInfo!$B$2:$G$429,6,FALSE)","v":"西南石油大学"},{"$f":"VLOOKUP(B140,[1]examineeInfo!$B$2:$H$429,7,FALSE)","v":"土木工程"}]
[139,"张乾运","男","硕士研究生","武汉大学","建筑学"]
[140,"崔苗苗","女","硕士研究生",{"$f":"VLOOKUP(B142,[1]examineeInfo!$B$2:$G$429,6,FALSE)","v":"西南财经大学"},{"$f":"VLOOKUP(B142,[1]examineeInfo!$B$2:$H$429,7,FALSE)","v":"法律（法学）"}]
[141,"杜晶晶","女","硕士研究生",{"$f":"VLOOKUP(B143,[1]examineeInfo!$B$2:$G$429,6,FALSE)","v":"山西大学"},{"$f":"VLOOKUP(B143,[1]examineeInfo!$B$2:$H$429,7,FALSE)","v":"法律（法学）"}]
[142,"杨立琼","女","硕士研究生",{"$f":"VLOOKUP(B144,[1]examineeInfo!$B$2:$G$429,6,FALSE)","v":"重庆师范大学"},{"$f":"VLOOKUP(B144,[1]examineeInfo!$B$2:$H$429,7,FALSE)","v":"中国现当代文学"}]
[143,"孙子杰","男","硕士研究生",{"$f":"VLOOKUP(B145,[1]examineeInfo!$B$2:$G$429,6,FALSE)","v":"青海大学"},{"$f":"VLOOKUP(B145,[1]examineeInfo!$B$2:$H$429,7,FALSE)","v":"计算机技术"}]
[144,"张文会","男","硕士研究生",{"$f":"VLOOKUP(B146,[1]examineeInfo!$B$2:$G$429,6,FALSE)","v":"重庆交通大学"},{"$f":"VLOOKUP(B146,[1]examineeInfo!$B$2:$H$429,7,FALSE)","v":"计算机应用技术"}]
[145,"张璐","女","硕士研究生","山西财经大学","会计"]
[146,"任冰妮","女","硕士研究生",{"$f":"VLOOKUP(B148,[1]examineeInfo!$B$2:$G$429,6,FALSE)","v":"山西财经大学"},{"$f":"VLOOKUP(B148,[1]examineeInfo!$B$2:$H$429,7,FALSE)","v":"金融学"}]
[147,"陆通","女","硕士研究生","山西财经大学","会计学"]
[148,"范碧青","女","硕士研究生",{"$f":"VLOOKUP(B150,[1]examineeInfo!$B$2:$G$429,6,FALSE)","v":"太原理工大学"},{"$f":"VLOOKUP(B150,[1]examineeInfo!$B$2:$H$429,7,FALSE)","v":"城乡规划学"}]
[149,"吴晋慧","女","硕士研究生",{"$f":"VLOOKUP(B151,[1]examineeInfo!$B$2:$G$429,6,FALSE)","v":"南京师范大学"},{"$f":"VLOOKUP(B151,[1]examineeInfo!$B$2:$H$429,7,FALSE)","v":"美术学"}]
[150,"李洋","女","硕士研究生",{"$f":"VLOOKUP(B152,[1]examineeInfo!$B$2:$G$429,6,FALSE)","v":"北京工商大学"},{"$f":"VLOOKUP(B152,[1]examineeInfo!$B$2:$H$429,7,FALSE)","v":"国际贸易学"}]
[151,"李婷","女","硕士研究生",{"$f":"VLOOKUP(B153,[1]examineeInfo!$B$2:$G$429,6,FALSE)","v":"西北政法大学"},{"$f":"VLOOKUP(B153,[1]examineeInfo!$B$2:$H$429,7,FALSE)","v":"刑法学"}]
[152,"张瑾","女","硕士研究生",{"$f":"VLOOKUP(B154,[1]examineeInfo!$B$2:$G$429,6,FALSE)","v":"山西大学"},{"$f":"VLOOKUP(B154,[1]examineeInfo!$B$2:$H$429,7,FALSE)","v":"马克思主义哲学"}]
[153,"孙思航","男","硕士研究生",{"$f":"VLOOKUP(B155,[1]examineeInfo!$B$2:$G$429,6,FALSE)","v":"河南大学"},{"$f":"VLOOKUP(B155,[1]examineeInfo!$B$2:$H$429,7,FALSE)","v":"法学"}]
[154,"张熙媛","女","硕士研究生",{"$f":"VLOOKUP(B156,[1]examineeInfo!$B$2:$G$429,6,FALSE)","v":"宁夏大学"},{"$f":"VLOOKUP(B156,[1]examineeInfo!$B$2:$H$429,7,FALSE)","v":"汉语言文字学"}]